BEGIN:VCALENDAR
VERSION:2.0
PRODID:-//https://calenda-formation.labocleo.org
X-WR-CALNAME:Calenda
X-WR-TIMEZONE:Europe/Paris
CALSCALE:GREGORIAN
X-WR-CALDESC:Le calendrier des lettres et sciences humaines et sociales
METHOD:PUBLISH
BEGIN:VEVENT
DTSTART;VALUE=DATE:20171030
DTEND;VALUE=DATE:20171031
UID:411971-20171030@calenda.revues.org
SUMMARY:Voir la sculpture
URL:https://calenda-formation.labocleo.org/411971
DESCRIPTION:Où voit-on de la sculpture ? Que voit-on ? Comment voit-on ? Ce numéro de la revue Sculptures souhaite mettre en valeur des questions de perception\, de point de vue\, de dispositifs de présentation qui concernent l’historien de la sculpture\, le commis… Weitere Informationen https://calenda-formation.labocleo.org/411971
LOCATION:Mont-Saint-Aignan
END:VEVENT
END:VCALENDAR
