BEGIN:VCALENDAR
VERSION:2.0
PRODID:-//https://calenda-formation.labocleo.org
X-WR-CALNAME:Calenda
X-WR-TIMEZONE:Europe/Paris
CALSCALE:GREGORIAN
X-WR-CALDESC:The calendar for arts, humanities and social sciences
METHOD:PUBLISH
BEGIN:VEVENT
DTSTART;VALUE=DATE:20170908
DTEND;VALUE=DATE:20170909
UID:412015-20170908@calenda.revues.org
SUMMARY:Intangible Cultural Heritage in Nature
URL:https://calenda-formation.labocleo.org/412015
DESCRIPTION:Intangible cultural heritage can be created by communities as a response to their environment and their interaction with nature. Farming\, fishing\, hunting\, pastoral or food gathering practices are\, for instance\, associated to natural resources and sp… @plus_info https://calenda-formation.labocleo.org/412015
LOCATION:Riga
END:VEVENT
END:VCALENDAR
