BEGIN:VCALENDAR
VERSION:2.0
PRODID:-//https://calenda-formation.labocleo.org
X-WR-CALNAME:Calenda
X-WR-TIMEZONE:Europe/Paris
CALSCALE:GREGORIAN
X-WR-CALDESC:Le calendrier des lettres et sciences humaines et sociales
METHOD:PUBLISH
BEGIN:VEVENT
DTSTART;VALUE=DATE:20171005
DTEND;VALUE=DATE:20171006
UID:412668-20171005@calenda.revues.org
SUMMARY:(Dé)constuire la ville : saisir la décroissance urbaine comme opportunité
URL:https://calenda-formation.labocleo.org/412668
DESCRIPTION:Les villes décroissantes sont devenues un objet d’études et de recherches central dans la dernière décennie. Sur la base de phénomènes\, plus ou moins combinés\, de décroissance démographique et de déclin économique\, ces dynamiques se sont étendues à d… Más informaciones https://calenda-formation.labocleo.org/412668
LOCATION:Saint-Étienne
END:VEVENT
BEGIN:VEVENT
DTSTART;VALUE=DATE:20171006
DTEND;VALUE=DATE:20171007
UID:412668-20171006@calenda.revues.org
SUMMARY:(Dé)constuire la ville : saisir la décroissance urbaine comme opportunité
URL:https://calenda-formation.labocleo.org/412668
DESCRIPTION:Les villes décroissantes sont devenues un objet d’études et de recherches central dans la dernière décennie. Sur la base de phénomènes\, plus ou moins combinés\, de décroissance démographique et de déclin économique\, ces dynamiques se sont étendues à d… Más informaciones https://calenda-formation.labocleo.org/412668
LOCATION:Saint-Étienne
END:VEVENT
END:VCALENDAR
