BEGIN:VCALENDAR
VERSION:2.0
PRODID:-//https://calenda-formation.labocleo.org
X-WR-CALNAME:Calenda
X-WR-TIMEZONE:Europe/Paris
CALSCALE:GREGORIAN
X-WR-CALDESC:Le calendrier des lettres et sciences humaines et sociales
METHOD:PUBLISH
BEGIN:VEVENT
DTSTART;VALUE=DATE:20170815
DTEND;VALUE=DATE:20170816
UID:412699-20170815@calenda.revues.org
SUMMARY:Border Textures: Interwoven Practices and Discursive Fabrics of Borders
URL:https://calenda-formation.labocleo.org/412699
DESCRIPTION:In view of the current political developments in Europe\, the scientific study of borders has increasingly gained importance. Cultural Studies has reacted to these developments by generating complex and more and more detailed theories and tools for de… @plus_info https://calenda-formation.labocleo.org/412699
LOCATION:Vienne
END:VEVENT
END:VCALENDAR
