BEGIN:VCALENDAR
VERSION:2.0
PRODID:-//https://calenda-formation.labocleo.org
X-WR-CALNAME:Calenda
X-WR-TIMEZONE:Europe/Paris
CALSCALE:GREGORIAN
X-WR-CALDESC:O calendário de letras e de ciências sociais e humanas
METHOD:PUBLISH
BEGIN:VEVENT
DTSTART;VALUE=DATE:20171010
DTEND;VALUE=DATE:20171011
UID:413052-20171010@calenda.revues.org
SUMMARY:Apprentissage et création artistique
URL:https://calenda-formation.labocleo.org/413052
DESCRIPTION:Depuis deux ans\, l’équipe de l’axe « Arts et mémoires d’Europe » du laboratoire IRHiS (Institut de recherches historiques du Septentrion) de l’université de Lille organise un séminaire mensuel consacré au thème « Apprentissage\, travail et création ».… @plus_info https://calenda-formation.labocleo.org/413052
LOCATION:Villeneuve-d'Ascq
END:VEVENT
END:VCALENDAR
