BEGIN:VCALENDAR
VERSION:2.0
PRODID:-//https://calenda-formation.labocleo.org
X-WR-CALNAME:Calenda
X-WR-TIMEZONE:Europe/Paris
CALSCALE:GREGORIAN
X-WR-CALDESC:The calendar for arts, humanities and social sciences
METHOD:PUBLISH
BEGIN:VEVENT
DTSTART;VALUE=DATE:20180115
DTEND;VALUE=DATE:20180116
UID:414029-20180115@calenda.revues.org
SUMMARY:Power in the margins of the book (16th-18th century)
URL:https://calenda-formation.labocleo.org/414029
DESCRIPTION:Sous l'Ancien Régime\, l'éloge du pouvoir se déploie de manière privilégiée dans les marges des textes\, des images et des spectacles : prologues\, dédicaces\, textes introductifs\, privilèges\, clés\, etc. Ces textes disent la gloire du roi\, de sa famille … @plus_info https://calenda-formation.labocleo.org/414029
LOCATION:Arras
END:VEVENT
END:VCALENDAR
