BEGIN:VCALENDAR
VERSION:2.0
PRODID:-//https://calenda-formation.labocleo.org
X-WR-CALNAME:Calenda
X-WR-TIMEZONE:Europe/Paris
CALSCALE:GREGORIAN
X-WR-CALDESC:Le calendrier des lettres et sciences humaines et sociales
METHOD:PUBLISH
BEGIN:VEVENT
DTSTART;VALUE=DATE:20171115
DTEND;VALUE=DATE:20171116
UID:414366-20171115@calenda.revues.org
SUMMARY:Norms and normativity
URL:https://calenda-formation.labocleo.org/414366
DESCRIPTION:Collective life is structured by norms. Even though such norms manifest as regularities for those who observe them\, they also constitute rules to follow or ideals to mimic. May these norms be social\, moral\, or legal\, they organize practices and orien… Weitere Informationen https://calenda-formation.labocleo.org/414366
LOCATION:Lyon
END:VEVENT
END:VCALENDAR
