BEGIN:VCALENDAR
VERSION:2.0
PRODID:-//https://calenda-formation.labocleo.org
X-WR-CALNAME:Calenda
X-WR-TIMEZONE:Europe/Paris
CALSCALE:GREGORIAN
X-WR-CALDESC:O calendário de letras e de ciências sociais e humanas
METHOD:PUBLISH
BEGIN:VEVENT
DTSTART;VALUE=DATE:20170930
DTEND;VALUE=DATE:20171001
UID:414602-20170930@calenda.revues.org
SUMMARY:Archéologie et technologies au service de la valorisation du patrimoine en Artois et ses régions limitrophes du Moyen Âge à l'époque moderne 
URL:https://calenda-formation.labocleo.org/414602
DESCRIPTION:Porté par la Direction de l’archéologie de l’agglomération Béthune-Bruay et par le Centre de recherche et d'études histoire et sociétés (CREHS\, université d’Artois)\, ce colloque vise à mettre en évidence les apports des nouvelles technologies à l'arc… @plus_info https://calenda-formation.labocleo.org/414602
LOCATION:Gosnay
END:VEVENT
END:VCALENDAR
