BEGIN:VCALENDAR
VERSION:2.0
PRODID:-//https://calenda-formation.labocleo.org
X-WR-CALNAME:Calenda
X-WR-TIMEZONE:Europe/Paris
CALSCALE:GREGORIAN
X-WR-CALDESC:The calendar for arts, humanities and social sciences
METHOD:PUBLISH
BEGIN:VEVENT
DTSTART;VALUE=DATE:20170915
DTEND;VALUE=DATE:20170916
UID:414678-20170915@calenda.revues.org
SUMMARY:The soldier and citizen - what evolutions in the role of military organisations?
URL:https://calenda-formation.labocleo.org/414678
DESCRIPTION:Le colloque annuel de l'Association pour les études sur la guerre et la stratégie (AEGES)\, intitulé « Le soldat et le citoyen. Quelles évolutions du rôle des organisations militaires ? » se tiendra à l'université Paris 1 Panthéon-Sorbonne les 13 et 1… @plus_info https://calenda-formation.labocleo.org/414678
LOCATION:Paris
END:VEVENT
END:VCALENDAR
