BEGIN:VCALENDAR
VERSION:2.0
PRODID:-//https://calenda-formation.labocleo.org
X-WR-CALNAME:Calenda
X-WR-TIMEZONE:Europe/Paris
CALSCALE:GREGORIAN
X-WR-CALDESC:Le calendrier des lettres et sciences humaines et sociales
METHOD:PUBLISH
BEGIN:VEVENT
DTSTART;VALUE=DATE:20170922
DTEND;VALUE=DATE:20170923
UID:414684-20170922@calenda.revues.org
SUMMARY:The political economy of regulatory devices: The case of macro-prudential regulation in the aftermath of the global financial crisis
URL:https://calenda-formation.labocleo.org/414684
DESCRIPTION:Cette journée d'étude est organisée par Matthias Thiemann (Sciences Po Paris\, résident 2016-2017 de l'Institut d'études avancées de Paris)\, avec le soutien de l'Institut d'études avancées de Paris\, du Centre d'études européennes de Sciences Po et du … @plus_info https://calenda-formation.labocleo.org/414684
LOCATION:Paris
END:VEVENT
END:VCALENDAR
