BEGIN:VCALENDAR
VERSION:2.0
PRODID:-//https://calenda-formation.labocleo.org
X-WR-CALNAME:Calenda
X-WR-TIMEZONE:Europe/Paris
CALSCALE:GREGORIAN
X-WR-CALDESC:Le calendrier des lettres et sciences humaines et sociales
METHOD:PUBLISH
BEGIN:VEVENT
DTSTART;VALUE=DATE:20180115
DTEND;VALUE=DATE:20180116
UID:414689-20180115@calenda.revues.org
SUMMARY:Black womanhood in popular culture
URL:https://calenda-formation.labocleo.org/414689
DESCRIPTION:In contemporary popular culture\, black womanhood frequently takes centre stage. It occupies an increasingly central place and articulates new and renewed dimensions\, prompting questions about the status of black women in the cultural imaginary of the… @plus_info https://calenda-formation.labocleo.org/414689
LOCATION:
END:VEVENT
END:VCALENDAR
