BEGIN:VCALENDAR
VERSION:2.0
PRODID:-//https://calenda-formation.labocleo.org
X-WR-CALNAME:Calenda
X-WR-TIMEZONE:Europe/Paris
CALSCALE:GREGORIAN
X-WR-CALDESC:O calendário de letras e de ciências sociais e humanas
METHOD:PUBLISH
BEGIN:VEVENT
DTSTART;VALUE=DATE:20171027
DTEND;VALUE=DATE:20171028
UID:415266-20171027@calenda.revues.org
SUMMARY:Expériences du tirage au sort en Suisse et en Europe : un état des lieux
URL:https://calenda-formation.labocleo.org/415266
DESCRIPTION:Ce colloque international a pour ambition de rassembler les spécialistes suisses et européens qui étudient le tirage au sort. Il s’agira ainsi d’établir un état des lieux des recherches en cours\, en croisant les investigations des historiens de la Su… @plus_info https://calenda-formation.labocleo.org/415266
LOCATION:Lausana
END:VEVENT
BEGIN:VEVENT
DTSTART;VALUE=DATE:20171028
DTEND;VALUE=DATE:20171029
UID:415266-20171028@calenda.revues.org
SUMMARY:Expériences du tirage au sort en Suisse et en Europe : un état des lieux
URL:https://calenda-formation.labocleo.org/415266
DESCRIPTION:Ce colloque international a pour ambition de rassembler les spécialistes suisses et européens qui étudient le tirage au sort. Il s’agira ainsi d’établir un état des lieux des recherches en cours\, en croisant les investigations des historiens de la Su… @plus_info https://calenda-formation.labocleo.org/415266
LOCATION:Lausana
END:VEVENT
END:VCALENDAR
