BEGIN:VCALENDAR
VERSION:2.0
PRODID:-//https://calenda-formation.labocleo.org
X-WR-CALNAME:Calenda
X-WR-TIMEZONE:Europe/Paris
CALSCALE:GREGORIAN
X-WR-CALDESC:The calendar for arts, humanities and social sciences
METHOD:PUBLISH
BEGIN:VEVENT
DTSTART;VALUE=DATE:20171013
DTEND;VALUE=DATE:20171014
UID:416079-20171013@calenda.revues.org
SUMMARY:Migration and movement - facts\, law and representation
URL:https://calenda-formation.labocleo.org/416079
DESCRIPTION:Le thème général du colloque porte sur les différentes modalités de circulation des personnes dans le contexte actuel de la globalisation des échanges (migrations économiques) et d’instabilité et recomposition géopolitique (exils). Après avoir montré… @plus_info https://calenda-formation.labocleo.org/416079
LOCATION:Perpignan
END:VEVENT
BEGIN:VEVENT
DTSTART;VALUE=DATE:20171014
DTEND;VALUE=DATE:20171015
UID:416079-20171014@calenda.revues.org
SUMMARY:Migration and movement - facts\, law and representation
URL:https://calenda-formation.labocleo.org/416079
DESCRIPTION:Le thème général du colloque porte sur les différentes modalités de circulation des personnes dans le contexte actuel de la globalisation des échanges (migrations économiques) et d’instabilité et recomposition géopolitique (exils). Après avoir montré… @plus_info https://calenda-formation.labocleo.org/416079
LOCATION:Perpignan
END:VEVENT
END:VCALENDAR
