BEGIN:VCALENDAR
VERSION:2.0
PRODID:-//https://calenda-formation.labocleo.org
X-WR-CALNAME:Calenda
X-WR-TIMEZONE:Europe/Paris
CALSCALE:GREGORIAN
X-WR-CALDESC:The calendar for arts, humanities and social sciences
METHOD:PUBLISH
BEGIN:VEVENT
DTSTART;VALUE=DATE:20171116
DTEND;VALUE=DATE:20171117
UID:416440-20171116@calenda.revues.org
SUMMARY:Artists and their institutions
URL:https://calenda-formation.labocleo.org/416440
DESCRIPTION:Ce colloque propose de revenir sur la manière dont les artistes\, pris dans leur diversité (spectacles vivants\, arts plastiques\, productions cinématographiques et littéraires\, auteurs\, interprètes\, compositeurs\, etc.)\, et les institutions (services de… @plus_info https://calenda-formation.labocleo.org/416440
LOCATION:Bordeaux
END:VEVENT
BEGIN:VEVENT
DTSTART;VALUE=DATE:20171117
DTEND;VALUE=DATE:20171118
UID:416440-20171117@calenda.revues.org
SUMMARY:Artists and their institutions
URL:https://calenda-formation.labocleo.org/416440
DESCRIPTION:Ce colloque propose de revenir sur la manière dont les artistes\, pris dans leur diversité (spectacles vivants\, arts plastiques\, productions cinématographiques et littéraires\, auteurs\, interprètes\, compositeurs\, etc.)\, et les institutions (services de… @plus_info https://calenda-formation.labocleo.org/416440
LOCATION:Bordeaux
END:VEVENT
END:VCALENDAR
