BEGIN:VCALENDAR
VERSION:2.0
PRODID:-//https://calenda-formation.labocleo.org
X-WR-CALNAME:Calenda
X-WR-TIMEZONE:Europe/Paris
CALSCALE:GREGORIAN
X-WR-CALDESC:Le calendrier des lettres et sciences humaines et sociales
METHOD:PUBLISH
BEGIN:VEVENT
DTSTART;VALUE=DATE:20171130
DTEND;VALUE=DATE:20171201
UID:417036-20171130@calenda.revues.org
SUMMARY:Espaces et paysages industriels : Zola et les réalités sociales de son époque
URL:https://calenda-formation.labocleo.org/417036
DESCRIPTION:Le colloque sera international et interdisciplinaire. Le sujet est à interpréter de manière large\, afin d’inclure des écrivains et artistes contemporains de Zola\, des analyses génétiques\, politico-historiques et sociologiques aussi bien que des étude… Weitere Informationen https://calenda-formation.labocleo.org/417036
LOCATION:Lille
END:VEVENT
END:VCALENDAR
