BEGIN:VCALENDAR
VERSION:2.0
PRODID:-//https://calenda-formation.labocleo.org
X-WR-CALNAME:Calenda
X-WR-TIMEZONE:Europe/Paris
CALSCALE:GREGORIAN
X-WR-CALDESC:The calendar for arts, humanities and social sciences
METHOD:PUBLISH
BEGIN:VEVENT
DTSTART;VALUE=DATE:20171016
DTEND;VALUE=DATE:20171017
UID:417048-20171016@calenda.revues.org
SUMMARY:Spaces for collective emancipation and social transformation
URL:https://calenda-formation.labocleo.org/417048
DESCRIPTION:Le but de cette rencontre est de permettre aux différents acteurs d’une recherche-action de documenter et de légitimer la posture d’’acteur-chercheur\, de valider leur expérience\, de dégager leurs propres référentiels en tant qu’outils d’expertise et … @plus_info https://calenda-formation.labocleo.org/417048
LOCATION:Saint-Denis
END:VEVENT
END:VCALENDAR
