BEGIN:VCALENDAR
VERSION:2.0
PRODID:-//https://calenda-formation.labocleo.org
X-WR-CALNAME:Calenda
X-WR-TIMEZONE:Europe/Paris
CALSCALE:GREGORIAN
X-WR-CALDESC:Le calendrier des lettres et sciences humaines et sociales
METHOD:PUBLISH
BEGIN:VEVENT
DTSTART;VALUE=DATE:20171201
DTEND;VALUE=DATE:20171202
UID:417114-20171201@calenda.revues.org
SUMMARY:Dissonance\, éclectisme et mélange des genres dans la culture anglophone moderne et contemporaine
URL:https://calenda-formation.labocleo.org/417114
DESCRIPTION:L’objet de cette journée d’études est d’interroger les possibilités ouvertes par la sociologie culturelle - notamment les concepts d'omnivorisme\, d'éclectisme\, de dissonance - aux autres disciplines\, notamment celles (civilisation\, littérature\, histo… Weitere Informationen https://calenda-formation.labocleo.org/417114
LOCATION:Reims
END:VEVENT
END:VCALENDAR
