BEGIN:VCALENDAR
VERSION:2.0
PRODID:-//https://calenda-formation.labocleo.org
X-WR-CALNAME:Calenda
X-WR-TIMEZONE:Europe/Paris
CALSCALE:GREGORIAN
X-WR-CALDESC:Le calendrier des lettres et sciences humaines et sociales
METHOD:PUBLISH
BEGIN:VEVENT
DTSTART;VALUE=DATE:20171011
DTEND;VALUE=DATE:20171012
UID:417211-20171011@calenda.revues.org
SUMMARY:Les conditions de production de l’information télévisée
URL:https://calenda-formation.labocleo.org/417211
DESCRIPTION:Ce colloque porte sur les pratiques\, les conditions et les contraintes actuelles de production de l’information sportive télévisée (programme de recherche financé par l’Agence nationale de la recherche). Chaque session comporte des présentations scie… Weitere Informationen https://calenda-formation.labocleo.org/417211
LOCATION:Lannion
END:VEVENT
BEGIN:VEVENT
DTSTART;VALUE=DATE:20171012
DTEND;VALUE=DATE:20171013
UID:417211-20171012@calenda.revues.org
SUMMARY:Les conditions de production de l’information télévisée
URL:https://calenda-formation.labocleo.org/417211
DESCRIPTION:Ce colloque porte sur les pratiques\, les conditions et les contraintes actuelles de production de l’information sportive télévisée (programme de recherche financé par l’Agence nationale de la recherche). Chaque session comporte des présentations scie… Weitere Informationen https://calenda-formation.labocleo.org/417211
LOCATION:Lannion
END:VEVENT
BEGIN:VEVENT
DTSTART;VALUE=DATE:20171013
DTEND;VALUE=DATE:20171014
UID:417211-20171013@calenda.revues.org
SUMMARY:Les conditions de production de l’information télévisée
URL:https://calenda-formation.labocleo.org/417211
DESCRIPTION:Ce colloque porte sur les pratiques\, les conditions et les contraintes actuelles de production de l’information sportive télévisée (programme de recherche financé par l’Agence nationale de la recherche). Chaque session comporte des présentations scie… Weitere Informationen https://calenda-formation.labocleo.org/417211
LOCATION:Lannion
END:VEVENT
END:VCALENDAR
