BEGIN:VCALENDAR
VERSION:2.0
PRODID:-//https://calenda-formation.labocleo.org
X-WR-CALNAME:Calenda
X-WR-TIMEZONE:Europe/Paris
CALSCALE:GREGORIAN
X-WR-CALDESC:O calendário de letras e de ciências sociais e humanas
METHOD:PUBLISH
BEGIN:VEVENT
DTSTART;VALUE=DATE:20171025
DTEND;VALUE=DATE:20171026
UID:417690-20171025@calenda.revues.org
SUMMARY:Africa narrates itself: media\, opinions\, influential figures
URL:https://calenda-formation.labocleo.org/417690
DESCRIPTION:These days communication and information are characterized by immediacy\, speed\, and interactivity. Facebook and Instagram accounts\, YouTube channels\, and blogs transmit a perpetual flow of information\, shared videos\, pictures\, and other content which… @plus_info https://calenda-formation.labocleo.org/417690
LOCATION:Sasso Marconi
END:VEVENT
END:VCALENDAR
