BEGIN:VCALENDAR
VERSION:2.0
PRODID:-//https://calenda-formation.labocleo.org
X-WR-CALNAME:Calenda
X-WR-TIMEZONE:Europe/Paris
CALSCALE:GREGORIAN
X-WR-CALDESC:The calendar for arts, humanities and social sciences
METHOD:PUBLISH
BEGIN:VEVENT
DTSTART;VALUE=DATE:20171115
DTEND;VALUE=DATE:20171116
UID:417727-20171115@calenda.revues.org
SUMMARY:Late Antiquity in central and western-central Gaul (3rd-7th centuries)
URL:https://calenda-formation.labocleo.org/417727
DESCRIPTION:Pour le centre de la Gaule\, la transition entre Antiquité et haut Moyen Âge fait l’objet d’un intérêt nouveau grâce à l’abondance des données fournies par les fouilles archéologiques et au renouvellement des questionnements posés aux sources écrites.… @plus_info https://calenda-formation.labocleo.org/417727
LOCATION:Tours
END:VEVENT
END:VCALENDAR
