BEGIN:VCALENDAR
VERSION:2.0
PRODID:-//https://calenda-formation.labocleo.org
X-WR-CALNAME:Calenda
X-WR-TIMEZONE:Europe/Paris
CALSCALE:GREGORIAN
X-WR-CALDESC:O calendário de letras e de ciências sociais e humanas
METHOD:PUBLISH
BEGIN:VEVENT
DTSTART;VALUE=DATE:20171011
DTEND;VALUE=DATE:20171012
UID:417863-20171011@calenda.revues.org
SUMMARY:Archéologie de la guerre : de la fouille à l'écriture de l'histoire
URL:https://calenda-formation.labocleo.org/417863
DESCRIPTION:La Bibliothèque nationale de France organise entre octobre 2017 et juin 2018 un cycle de conférences consacré aux différents aspects de l’archéologie de la guerre\, toutes périodes confondues. Le cycle s’ouvre par l’exposition Inrap sur l’archéologie … @plus_info https://calenda-formation.labocleo.org/417863
LOCATION:Paris
END:VEVENT
BEGIN:VEVENT
DTSTART;VALUE=DATE:20171122
DTEND;VALUE=DATE:20171123
UID:417863-20171122@calenda.revues.org
SUMMARY:Archéologie de la guerre : de la fouille à l'écriture de l'histoire
URL:https://calenda-formation.labocleo.org/417863
DESCRIPTION:La Bibliothèque nationale de France organise entre octobre 2017 et juin 2018 un cycle de conférences consacré aux différents aspects de l’archéologie de la guerre\, toutes périodes confondues. Le cycle s’ouvre par l’exposition Inrap sur l’archéologie … @plus_info https://calenda-formation.labocleo.org/417863
LOCATION:Paris
END:VEVENT
BEGIN:VEVENT
DTSTART;VALUE=DATE:20171220
DTEND;VALUE=DATE:20171221
UID:417863-20171220@calenda.revues.org
SUMMARY:Archéologie de la guerre : de la fouille à l'écriture de l'histoire
URL:https://calenda-formation.labocleo.org/417863
DESCRIPTION:La Bibliothèque nationale de France organise entre octobre 2017 et juin 2018 un cycle de conférences consacré aux différents aspects de l’archéologie de la guerre\, toutes périodes confondues. Le cycle s’ouvre par l’exposition Inrap sur l’archéologie … @plus_info https://calenda-formation.labocleo.org/417863
LOCATION:Paris
END:VEVENT
BEGIN:VEVENT
DTSTART;VALUE=DATE:20180117
DTEND;VALUE=DATE:20180118
UID:417863-20180117@calenda.revues.org
SUMMARY:Archéologie de la guerre : de la fouille à l'écriture de l'histoire
URL:https://calenda-formation.labocleo.org/417863
DESCRIPTION:La Bibliothèque nationale de France organise entre octobre 2017 et juin 2018 un cycle de conférences consacré aux différents aspects de l’archéologie de la guerre\, toutes périodes confondues. Le cycle s’ouvre par l’exposition Inrap sur l’archéologie … @plus_info https://calenda-formation.labocleo.org/417863
LOCATION:Paris
END:VEVENT
BEGIN:VEVENT
DTSTART;VALUE=DATE:20180207
DTEND;VALUE=DATE:20180208
UID:417863-20180207@calenda.revues.org
SUMMARY:Archéologie de la guerre : de la fouille à l'écriture de l'histoire
URL:https://calenda-formation.labocleo.org/417863
DESCRIPTION:La Bibliothèque nationale de France organise entre octobre 2017 et juin 2018 un cycle de conférences consacré aux différents aspects de l’archéologie de la guerre\, toutes périodes confondues. Le cycle s’ouvre par l’exposition Inrap sur l’archéologie … @plus_info https://calenda-formation.labocleo.org/417863
LOCATION:Paris
END:VEVENT
BEGIN:VEVENT
DTSTART;VALUE=DATE:20180321
DTEND;VALUE=DATE:20180322
UID:417863-20180321@calenda.revues.org
SUMMARY:Archéologie de la guerre : de la fouille à l'écriture de l'histoire
URL:https://calenda-formation.labocleo.org/417863
DESCRIPTION:La Bibliothèque nationale de France organise entre octobre 2017 et juin 2018 un cycle de conférences consacré aux différents aspects de l’archéologie de la guerre\, toutes périodes confondues. Le cycle s’ouvre par l’exposition Inrap sur l’archéologie … @plus_info https://calenda-formation.labocleo.org/417863
LOCATION:Paris
END:VEVENT
BEGIN:VEVENT
DTSTART;VALUE=DATE:20180411
DTEND;VALUE=DATE:20180412
UID:417863-20180411@calenda.revues.org
SUMMARY:Archéologie de la guerre : de la fouille à l'écriture de l'histoire
URL:https://calenda-formation.labocleo.org/417863
DESCRIPTION:La Bibliothèque nationale de France organise entre octobre 2017 et juin 2018 un cycle de conférences consacré aux différents aspects de l’archéologie de la guerre\, toutes périodes confondues. Le cycle s’ouvre par l’exposition Inrap sur l’archéologie … @plus_info https://calenda-formation.labocleo.org/417863
LOCATION:Paris
END:VEVENT
BEGIN:VEVENT
DTSTART;VALUE=DATE:20180523
DTEND;VALUE=DATE:20180524
UID:417863-20180523@calenda.revues.org
SUMMARY:Archéologie de la guerre : de la fouille à l'écriture de l'histoire
URL:https://calenda-formation.labocleo.org/417863
DESCRIPTION:La Bibliothèque nationale de France organise entre octobre 2017 et juin 2018 un cycle de conférences consacré aux différents aspects de l’archéologie de la guerre\, toutes périodes confondues. Le cycle s’ouvre par l’exposition Inrap sur l’archéologie … @plus_info https://calenda-formation.labocleo.org/417863
LOCATION:Paris
END:VEVENT
BEGIN:VEVENT
DTSTART;VALUE=DATE:20180613
DTEND;VALUE=DATE:20180614
UID:417863-20180613@calenda.revues.org
SUMMARY:Archéologie de la guerre : de la fouille à l'écriture de l'histoire
URL:https://calenda-formation.labocleo.org/417863
DESCRIPTION:La Bibliothèque nationale de France organise entre octobre 2017 et juin 2018 un cycle de conférences consacré aux différents aspects de l’archéologie de la guerre\, toutes périodes confondues. Le cycle s’ouvre par l’exposition Inrap sur l’archéologie … @plus_info https://calenda-formation.labocleo.org/417863
LOCATION:Paris
END:VEVENT
END:VCALENDAR
