BEGIN:VCALENDAR
VERSION:2.0
PRODID:-//https://calenda-formation.labocleo.org
X-WR-CALNAME:Calenda
X-WR-TIMEZONE:Europe/Paris
CALSCALE:GREGORIAN
X-WR-CALDESC:Le calendrier des lettres et sciences humaines et sociales
METHOD:PUBLISH
BEGIN:VEVENT
DTSTART;VALUE=DATE:20171102
DTEND;VALUE=DATE:20171103
UID:417959-20171102@calenda.revues.org
SUMMARY:L'histoire du maintien de la paix : nouvelles perspectives 
URL:https://calenda-formation.labocleo.org/417959
DESCRIPTION:Le département d’histoire du Collège militaire royal du Canada organise un symposium bilingue d’histoire militaire les 2 et 3 novembre 2017 ayant pour thème « l’histoire du maintien de la paix : nouvelles perspectives ». De nombreux(ses) conférencier… Más informaciones https://calenda-formation.labocleo.org/417959
LOCATION:Kingston
END:VEVENT
BEGIN:VEVENT
DTSTART;VALUE=DATE:20171103
DTEND;VALUE=DATE:20171104
UID:417959-20171103@calenda.revues.org
SUMMARY:L'histoire du maintien de la paix : nouvelles perspectives 
URL:https://calenda-formation.labocleo.org/417959
DESCRIPTION:Le département d’histoire du Collège militaire royal du Canada organise un symposium bilingue d’histoire militaire les 2 et 3 novembre 2017 ayant pour thème « l’histoire du maintien de la paix : nouvelles perspectives ». De nombreux(ses) conférencier… Más informaciones https://calenda-formation.labocleo.org/417959
LOCATION:Kingston
END:VEVENT
END:VCALENDAR
