BEGIN:VCALENDAR
VERSION:2.0
PRODID:-//https://calenda-formation.labocleo.org
X-WR-CALNAME:Calenda
X-WR-TIMEZONE:Europe/Paris
CALSCALE:GREGORIAN
X-WR-CALDESC:Le calendrier des lettres et sciences humaines et sociales
METHOD:PUBLISH
BEGIN:VEVENT
DTSTART;VALUE=DATE:20171110
DTEND;VALUE=DATE:20171111
UID:418120-20171110@calenda.revues.org
SUMMARY:Handicap et éducation : perspectives internationales et genrées
URL:https://calenda-formation.labocleo.org/418120
DESCRIPTION:En France comme à l’étranger\, les deux dernières décennies ont vu la promulgation de lois visant à favoriser l’inclusion scolaire des enfants en situation de handicap. Cependant\, la mise en œuvre de ces lois soulèvent de multiples enjeux : difficulté… Weitere Informationen https://calenda-formation.labocleo.org/418120
LOCATION:Paris
END:VEVENT
END:VCALENDAR
