BEGIN:VCALENDAR
VERSION:2.0
PRODID:-//https://calenda-formation.labocleo.org
X-WR-CALNAME:Calenda
X-WR-TIMEZONE:Europe/Paris
CALSCALE:GREGORIAN
X-WR-CALDESC:Le calendrier des lettres et sciences humaines et sociales
METHOD:PUBLISH
BEGIN:VEVENT
DTSTART;VALUE=DATE:20171009
DTEND;VALUE=DATE:20171010
UID:418342-20171009@calenda.revues.org
SUMMARY:Deux post-doctorants pour une campagne d’inventaire du patrimoine culturel immatériel (PCI) dans les Pyrénées
URL:https://calenda-formation.labocleo.org/418342
DESCRIPTION:Dans le cadre du programme de recherche européen FEDER-Programme opérationnel interrégional (POI) Pyrénées 2014-2020\, l’Université de Pau et des Pays de l'Adour entreprend la réalisation d’un inventaire du patrimoine de villégiature et thermal dans l… Weitere Informationen https://calenda-formation.labocleo.org/418342
LOCATION:Pau
END:VEVENT
END:VCALENDAR
