BEGIN:VCALENDAR
VERSION:2.0
PRODID:-//https://calenda-formation.labocleo.org
X-WR-CALNAME:Calenda
X-WR-TIMEZONE:Europe/Paris
CALSCALE:GREGORIAN
X-WR-CALDESC:O calendário de letras e de ciências sociais e humanas
METHOD:PUBLISH
BEGIN:VEVENT
DTSTART;VALUE=DATE:20180101
DTEND;VALUE=DATE:20180102
UID:418466-20180101@calenda.revues.org
SUMMARY:L'herméneutique philosophique en contexte islamique
URL:https://calenda-formation.labocleo.org/418466
DESCRIPTION:Ce colloque souhaite prendre langue avec un contexte spécifique parmi tous ceux qui ont été et sont encore « affectés » par l’herméneutique philosophique : le contexte islamique. Celui-ci semble particulièrement pertinent : d’une part parce qu’il est… @plus_info https://calenda-formation.labocleo.org/418466
LOCATION:Louvain-la-Neuve
END:VEVENT
END:VCALENDAR
