BEGIN:VCALENDAR
VERSION:2.0
PRODID:-//https://calenda-formation.labocleo.org
X-WR-CALNAME:Calenda
X-WR-TIMEZONE:Europe/Paris
CALSCALE:GREGORIAN
X-WR-CALDESC:The calendar for arts, humanities and social sciences
METHOD:PUBLISH
BEGIN:VEVENT
DTSTART;VALUE=DATE:20171226
DTEND;VALUE=DATE:20171227
UID:418542-20171226@calenda.revues.org
SUMMARY:ProActive: the analysis of training activities
URL:https://calenda-formation.labocleo.org/418542
DESCRIPTION:L’analyse de l’activité est devenue une expression très courante dans le domaine de la formation professionnelle. L’idée sous-jacente est simple : la formation professionnelle doit s’adosser\, d’une manière ou d’une autre\, à une compréhension du trava… @plus_info https://calenda-formation.labocleo.org/418542
LOCATION:Saint-Martin-d'Hères
END:VEVENT
END:VCALENDAR
