BEGIN:VCALENDAR
VERSION:2.0
PRODID:-//https://calenda-formation.labocleo.org
X-WR-CALNAME:Calenda
X-WR-TIMEZONE:Europe/Paris
CALSCALE:GREGORIAN
X-WR-CALDESC:The calendar for arts, humanities and social sciences
METHOD:PUBLISH
BEGIN:VEVENT
DTSTART;VALUE=DATE:20171230
DTEND;VALUE=DATE:20171231
UID:418672-20171230@calenda.revues.org
SUMMARY:Personal small ads in the contemporary press (18th-20th century)
URL:https://calenda-formation.labocleo.org/418672
DESCRIPTION:This colloquium aims to bring historians and scholars from related disciplines together to engage collectively with the personal ad\, considered both as object and as source\, from the second half of the eighteenth century through the first half of the… @plus_info https://calenda-formation.labocleo.org/418672
LOCATION:Paris
END:VEVENT
END:VCALENDAR
