BEGIN:VCALENDAR
VERSION:2.0
PRODID:-//https://calenda-formation.labocleo.org
X-WR-CALNAME:Calenda
X-WR-TIMEZONE:Europe/Paris
CALSCALE:GREGORIAN
X-WR-CALDESC:Le calendrier des lettres et sciences humaines et sociales
METHOD:PUBLISH
BEGIN:VEVENT
DTSTART;VALUE=DATE:20171123
DTEND;VALUE=DATE:20171124
UID:418729-20171123@calenda.revues.org
SUMMARY:Re:Trace conference
URL:https://calenda-formation.labocleo.org/418729
DESCRIPTION:RE: TRACE - the 7th International conference on the histories of media art\, science and technology will be hosted by the department for image science and held at Danube University Krems\, Göttweig Abbey and the Austrian Academy of Sciences\, Vienna. Mo… @plus_info https://calenda-formation.labocleo.org/418729
LOCATION:Krems\, Furth\, Vienne
END:VEVENT
BEGIN:VEVENT
DTSTART;VALUE=DATE:20171124
DTEND;VALUE=DATE:20171125
UID:418729-20171124@calenda.revues.org
SUMMARY:Re:Trace conference
URL:https://calenda-formation.labocleo.org/418729
DESCRIPTION:RE: TRACE - the 7th International conference on the histories of media art\, science and technology will be hosted by the department for image science and held at Danube University Krems\, Göttweig Abbey and the Austrian Academy of Sciences\, Vienna. Mo… @plus_info https://calenda-formation.labocleo.org/418729
LOCATION:Krems\, Furth\, Vienne
END:VEVENT
BEGIN:VEVENT
DTSTART;VALUE=DATE:20171125
DTEND;VALUE=DATE:20171126
UID:418729-20171125@calenda.revues.org
SUMMARY:Re:Trace conference
URL:https://calenda-formation.labocleo.org/418729
DESCRIPTION:RE: TRACE - the 7th International conference on the histories of media art\, science and technology will be hosted by the department for image science and held at Danube University Krems\, Göttweig Abbey and the Austrian Academy of Sciences\, Vienna. Mo… @plus_info https://calenda-formation.labocleo.org/418729
LOCATION:Krems\, Furth\, Vienne
END:VEVENT
END:VCALENDAR
