BEGIN:VCALENDAR
VERSION:2.0
PRODID:-//https://calenda-formation.labocleo.org
X-WR-CALNAME:Calenda
X-WR-TIMEZONE:Europe/Paris
CALSCALE:GREGORIAN
X-WR-CALDESC:O calendário de letras e de ciências sociais e humanas
METHOD:PUBLISH
BEGIN:VEVENT
DTSTART;VALUE=DATE:20171019
DTEND;VALUE=DATE:20171020
UID:419342-20171019@calenda.revues.org
SUMMARY:Pour une histoire politique des sciences : enjeux\, méthodes\, questions
URL:https://calenda-formation.labocleo.org/419342
DESCRIPTION:Le séminaire\, ouvert aux étudiants de master\, aux doctorants et aux chercheurs et enseignants-chercheurs\, change de format cette année. S’il garde sa double ambition de faire le point sur les recherches et les perspectives historiographiques les plus… @plus_info https://calenda-formation.labocleo.org/419342
LOCATION:Paris 05 Panthéon
END:VEVENT
BEGIN:VEVENT
DTSTART;VALUE=DATE:20171116
DTEND;VALUE=DATE:20171117
UID:419342-20171116@calenda.revues.org
SUMMARY:Pour une histoire politique des sciences : enjeux\, méthodes\, questions
URL:https://calenda-formation.labocleo.org/419342
DESCRIPTION:Le séminaire\, ouvert aux étudiants de master\, aux doctorants et aux chercheurs et enseignants-chercheurs\, change de format cette année. S’il garde sa double ambition de faire le point sur les recherches et les perspectives historiographiques les plus… @plus_info https://calenda-formation.labocleo.org/419342
LOCATION:Paris 05 Panthéon
END:VEVENT
BEGIN:VEVENT
DTSTART;VALUE=DATE:20171207
DTEND;VALUE=DATE:20171208
UID:419342-20171207@calenda.revues.org
SUMMARY:Pour une histoire politique des sciences : enjeux\, méthodes\, questions
URL:https://calenda-formation.labocleo.org/419342
DESCRIPTION:Le séminaire\, ouvert aux étudiants de master\, aux doctorants et aux chercheurs et enseignants-chercheurs\, change de format cette année. S’il garde sa double ambition de faire le point sur les recherches et les perspectives historiographiques les plus… @plus_info https://calenda-formation.labocleo.org/419342
LOCATION:Paris 05 Panthéon
END:VEVENT
BEGIN:VEVENT
DTSTART;VALUE=DATE:20180111
DTEND;VALUE=DATE:20180112
UID:419342-20180111@calenda.revues.org
SUMMARY:Pour une histoire politique des sciences : enjeux\, méthodes\, questions
URL:https://calenda-formation.labocleo.org/419342
DESCRIPTION:Le séminaire\, ouvert aux étudiants de master\, aux doctorants et aux chercheurs et enseignants-chercheurs\, change de format cette année. S’il garde sa double ambition de faire le point sur les recherches et les perspectives historiographiques les plus… @plus_info https://calenda-formation.labocleo.org/419342
LOCATION:Paris 05 Panthéon
END:VEVENT
BEGIN:VEVENT
DTSTART;VALUE=DATE:20180215
DTEND;VALUE=DATE:20180216
UID:419342-20180215@calenda.revues.org
SUMMARY:Pour une histoire politique des sciences : enjeux\, méthodes\, questions
URL:https://calenda-formation.labocleo.org/419342
DESCRIPTION:Le séminaire\, ouvert aux étudiants de master\, aux doctorants et aux chercheurs et enseignants-chercheurs\, change de format cette année. S’il garde sa double ambition de faire le point sur les recherches et les perspectives historiographiques les plus… @plus_info https://calenda-formation.labocleo.org/419342
LOCATION:Paris 05 Panthéon
END:VEVENT
BEGIN:VEVENT
DTSTART;VALUE=DATE:20180315
DTEND;VALUE=DATE:20180316
UID:419342-20180315@calenda.revues.org
SUMMARY:Pour une histoire politique des sciences : enjeux\, méthodes\, questions
URL:https://calenda-formation.labocleo.org/419342
DESCRIPTION:Le séminaire\, ouvert aux étudiants de master\, aux doctorants et aux chercheurs et enseignants-chercheurs\, change de format cette année. S’il garde sa double ambition de faire le point sur les recherches et les perspectives historiographiques les plus… @plus_info https://calenda-formation.labocleo.org/419342
LOCATION:Paris 05 Panthéon
END:VEVENT
BEGIN:VEVENT
DTSTART;VALUE=DATE:20180412
DTEND;VALUE=DATE:20180413
UID:419342-20180412@calenda.revues.org
SUMMARY:Pour une histoire politique des sciences : enjeux\, méthodes\, questions
URL:https://calenda-formation.labocleo.org/419342
DESCRIPTION:Le séminaire\, ouvert aux étudiants de master\, aux doctorants et aux chercheurs et enseignants-chercheurs\, change de format cette année. S’il garde sa double ambition de faire le point sur les recherches et les perspectives historiographiques les plus… @plus_info https://calenda-formation.labocleo.org/419342
LOCATION:Paris 05 Panthéon
END:VEVENT
BEGIN:VEVENT
DTSTART;VALUE=DATE:20180517
DTEND;VALUE=DATE:20180518
UID:419342-20180517@calenda.revues.org
SUMMARY:Pour une histoire politique des sciences : enjeux\, méthodes\, questions
URL:https://calenda-formation.labocleo.org/419342
DESCRIPTION:Le séminaire\, ouvert aux étudiants de master\, aux doctorants et aux chercheurs et enseignants-chercheurs\, change de format cette année. S’il garde sa double ambition de faire le point sur les recherches et les perspectives historiographiques les plus… @plus_info https://calenda-formation.labocleo.org/419342
LOCATION:Paris 05 Panthéon
END:VEVENT
END:VCALENDAR
