BEGIN:VCALENDAR
VERSION:2.0
PRODID:-//https://calenda-formation.labocleo.org
X-WR-CALNAME:Calenda
X-WR-TIMEZONE:Europe/Paris
CALSCALE:GREGORIAN
X-WR-CALDESC:The calendar for arts, humanities and social sciences
METHOD:PUBLISH
BEGIN:VEVENT
DTSTART;VALUE=DATE:20171107
DTEND;VALUE=DATE:20171108
UID:420001-20171107@calenda.revues.org
SUMMARY:Low risk drug consumption spaces - comparative approaches to an experiment
URL:https://calenda-formation.labocleo.org/420001
DESCRIPTION:Les salles de consommation dont l’expérimentation\, autorisée par une loi du 26 janvier 2016\, a commencé avec l’ouverture d’espaces\, à Paris et Strasbourg\, à l’automne 2016 participent de l’approfondissement de la politique de réduction des risques en… @plus_info https://calenda-formation.labocleo.org/420001
LOCATION:Rennes
END:VEVENT
BEGIN:VEVENT
DTSTART;VALUE=DATE:20171108
DTEND;VALUE=DATE:20171109
UID:420001-20171108@calenda.revues.org
SUMMARY:Low risk drug consumption spaces - comparative approaches to an experiment
URL:https://calenda-formation.labocleo.org/420001
DESCRIPTION:Les salles de consommation dont l’expérimentation\, autorisée par une loi du 26 janvier 2016\, a commencé avec l’ouverture d’espaces\, à Paris et Strasbourg\, à l’automne 2016 participent de l’approfondissement de la politique de réduction des risques en… @plus_info https://calenda-formation.labocleo.org/420001
LOCATION:Rennes
END:VEVENT
END:VCALENDAR
