BEGIN:VCALENDAR
VERSION:2.0
PRODID:-//https://calenda-formation.labocleo.org
X-WR-CALNAME:Calenda
X-WR-TIMEZONE:Europe/Paris
CALSCALE:GREGORIAN
X-WR-CALDESC:Le calendrier des lettres et sciences humaines et sociales
METHOD:PUBLISH
BEGIN:VEVENT
DTSTART;VALUE=DATE:20171115
DTEND;VALUE=DATE:20171116
UID:420073-20171115@calenda.revues.org
SUMMARY:Droit à la ville au Sud\, expériences citadines et rationalités de gouvernement 
URL:https://calenda-formation.labocleo.org/420073
DESCRIPTION:Ce colloque souhaite questionner le droit à la ville en tant que concept analytique pour penser les relations entre pratiques quotidiennes des citadins et rationalités de gouvernement. Pour ce faire\, nous proposons de livrer à la discussion la notion… Más informaciones https://calenda-formation.labocleo.org/420073
LOCATION:París
END:VEVENT
BEGIN:VEVENT
DTSTART;VALUE=DATE:20171116
DTEND;VALUE=DATE:20171117
UID:420073-20171116@calenda.revues.org
SUMMARY:Droit à la ville au Sud\, expériences citadines et rationalités de gouvernement 
URL:https://calenda-formation.labocleo.org/420073
DESCRIPTION:Ce colloque souhaite questionner le droit à la ville en tant que concept analytique pour penser les relations entre pratiques quotidiennes des citadins et rationalités de gouvernement. Pour ce faire\, nous proposons de livrer à la discussion la notion… Más informaciones https://calenda-formation.labocleo.org/420073
LOCATION:París
END:VEVENT
BEGIN:VEVENT
DTSTART;VALUE=DATE:20171117
DTEND;VALUE=DATE:20171118
UID:420073-20171117@calenda.revues.org
SUMMARY:Droit à la ville au Sud\, expériences citadines et rationalités de gouvernement 
URL:https://calenda-formation.labocleo.org/420073
DESCRIPTION:Ce colloque souhaite questionner le droit à la ville en tant que concept analytique pour penser les relations entre pratiques quotidiennes des citadins et rationalités de gouvernement. Pour ce faire\, nous proposons de livrer à la discussion la notion… Más informaciones https://calenda-formation.labocleo.org/420073
LOCATION:París
END:VEVENT
END:VCALENDAR
