BEGIN:VCALENDAR
VERSION:2.0
PRODID:-//https://calenda-formation.labocleo.org
X-WR-CALNAME:Calenda
X-WR-TIMEZONE:Europe/Paris
CALSCALE:GREGORIAN
X-WR-CALDESC:Le calendrier des lettres et sciences humaines et sociales
METHOD:PUBLISH
BEGIN:VEVENT
DTSTART;VALUE=DATE:20171124
DTEND;VALUE=DATE:20171125
UID:420388-20171124@calenda.revues.org
SUMMARY:Espaces publics et mobilités
URL:https://calenda-formation.labocleo.org/420388
DESCRIPTION:De plus en plus de travaux\, en particulier de jeunes chercheur·e·s\, mobilisent la mobilité comme clé de lecture pour saisir les transformations de l’espace public et des sociétés urbaines à l’articulation des différentes échelles spatiales\, du corps … Weitere Informationen https://calenda-formation.labocleo.org/420388
LOCATION:Paris
END:VEVENT
BEGIN:VEVENT
DTSTART;VALUE=DATE:20180126
DTEND;VALUE=DATE:20180127
UID:420388-20180126@calenda.revues.org
SUMMARY:Espaces publics et mobilités
URL:https://calenda-formation.labocleo.org/420388
DESCRIPTION:De plus en plus de travaux\, en particulier de jeunes chercheur·e·s\, mobilisent la mobilité comme clé de lecture pour saisir les transformations de l’espace public et des sociétés urbaines à l’articulation des différentes échelles spatiales\, du corps … Weitere Informationen https://calenda-formation.labocleo.org/420388
LOCATION:Paris
END:VEVENT
BEGIN:VEVENT
DTSTART;VALUE=DATE:20180406
DTEND;VALUE=DATE:20180407
UID:420388-20180406@calenda.revues.org
SUMMARY:Espaces publics et mobilités
URL:https://calenda-formation.labocleo.org/420388
DESCRIPTION:De plus en plus de travaux\, en particulier de jeunes chercheur·e·s\, mobilisent la mobilité comme clé de lecture pour saisir les transformations de l’espace public et des sociétés urbaines à l’articulation des différentes échelles spatiales\, du corps … Weitere Informationen https://calenda-formation.labocleo.org/420388
LOCATION:Paris
END:VEVENT
BEGIN:VEVENT
DTSTART;VALUE=DATE:20180601
DTEND;VALUE=DATE:20180602
UID:420388-20180601@calenda.revues.org
SUMMARY:Espaces publics et mobilités
URL:https://calenda-formation.labocleo.org/420388
DESCRIPTION:De plus en plus de travaux\, en particulier de jeunes chercheur·e·s\, mobilisent la mobilité comme clé de lecture pour saisir les transformations de l’espace public et des sociétés urbaines à l’articulation des différentes échelles spatiales\, du corps … Weitere Informationen https://calenda-formation.labocleo.org/420388
LOCATION:Paris
END:VEVENT
END:VCALENDAR
