BEGIN:VCALENDAR
VERSION:2.0
PRODID:-//https://calenda-formation.labocleo.org
X-WR-CALNAME:Calenda
X-WR-TIMEZONE:Europe/Paris
CALSCALE:GREGORIAN
X-WR-CALDESC:The calendar for arts, humanities and social sciences
METHOD:PUBLISH
BEGIN:VEVENT
DTSTART;VALUE=DATE:20171115
DTEND;VALUE=DATE:20171116
UID:420631-20171115@calenda.revues.org
SUMMARY:Digital societies - doctoral days of the Maison des sciences de l'Homme Ange-Guépin
URL:https://calenda-formation.labocleo.org/420631
DESCRIPTION:Ces journées doctorales portent sur le thème : Mutations des pratiques en régime numérique. Ce thème couvre l'ensemble des recherches qui visent à comprendre les processus à l'œuvre dans la transformation des pratiques sociales (recherche\, travail\, é… @plus_info https://calenda-formation.labocleo.org/420631
LOCATION:Nantes
END:VEVENT
BEGIN:VEVENT
DTSTART;VALUE=DATE:20171116
DTEND;VALUE=DATE:20171117
UID:420631-20171116@calenda.revues.org
SUMMARY:Digital societies - doctoral days of the Maison des sciences de l'Homme Ange-Guépin
URL:https://calenda-formation.labocleo.org/420631
DESCRIPTION:Ces journées doctorales portent sur le thème : Mutations des pratiques en régime numérique. Ce thème couvre l'ensemble des recherches qui visent à comprendre les processus à l'œuvre dans la transformation des pratiques sociales (recherche\, travail\, é… @plus_info https://calenda-formation.labocleo.org/420631
LOCATION:Nantes
END:VEVENT
END:VCALENDAR
