BEGIN:VCALENDAR
VERSION:2.0
PRODID:-//https://calenda-formation.labocleo.org
X-WR-CALNAME:Calenda
X-WR-TIMEZONE:Europe/Paris
CALSCALE:GREGORIAN
X-WR-CALDESC:Le calendrier des lettres et sciences humaines et sociales
METHOD:PUBLISH
BEGIN:VEVENT
DTSTART;VALUE=DATE:20171120
DTEND;VALUE=DATE:20171121
UID:420702-20171120@calenda.revues.org
SUMMARY:Post-doctorat pour le projet « Horizon des littoraux en déclassement » (Holi-D)
URL:https://calenda-formation.labocleo.org/420702
DESCRIPTION:Le projet de recherche « Horizon des littoraux en déclassement » (Holi-D) recrute un(e) post-doctorant(e) pour 12 mois à compter du 1er février 2018 pour un travail d'enquête par entretiens et l'élaboration / analyse d'un corpus d'archives auprès des… @plus_info https://calenda-formation.labocleo.org/420702
LOCATION:Nantes
END:VEVENT
END:VCALENDAR
