BEGIN:VCALENDAR
VERSION:2.0
PRODID:-//https://calenda-formation.labocleo.org
X-WR-CALNAME:Calenda
X-WR-TIMEZONE:Europe/Paris
CALSCALE:GREGORIAN
X-WR-CALDESC:The calendar for arts, humanities and social sciences
METHOD:PUBLISH
BEGIN:VEVENT
DTSTART;VALUE=DATE:20171120
DTEND;VALUE=DATE:20171121
UID:420851-20171120@calenda.revues.org
SUMMARY:"Pertubation ma soeur" - the current state of affairs of Beauvoir-ian thought
URL:https://calenda-formation.labocleo.org/420851
DESCRIPTION:Les études beauvoiriennes en France sont florissantes mais bénéficient paradoxalement de peu de visibilité\, peut-être à cause d'un manque d'unité et de légitimité académique. Cette journée d'étude interdisciplinaire réunit donc des chercheuses afin d… @plus_info https://calenda-formation.labocleo.org/420851
LOCATION:Toulouse
END:VEVENT
END:VCALENDAR
