BEGIN:VCALENDAR
VERSION:2.0
PRODID:-//https://calenda-formation.labocleo.org
X-WR-CALNAME:Calenda
X-WR-TIMEZONE:Europe/Paris
CALSCALE:GREGORIAN
X-WR-CALDESC:Le calendrier des lettres et sciences humaines et sociales
METHOD:PUBLISH
BEGIN:VEVENT
DTSTART;VALUE=DATE:20171210
DTEND;VALUE=DATE:20171211
UID:420974-20171210@calenda.revues.org
SUMMARY:Popularité\, réputation\, renommée. Visages de la notoriété médiévale
URL:https://calenda-formation.labocleo.org/420974
DESCRIPTION:La popularité\, devenue l'horizon de toute action gouvernementale dans les démocraties contemporaines\, est un concept a priori peu opérant pour le monde médiéval. A l'inverse\, si de nos jours la bonne réputation n'est plus une condition nécessaire pou… @plus_info https://calenda-formation.labocleo.org/420974
LOCATION:Paris
END:VEVENT
END:VCALENDAR
