BEGIN:VCALENDAR
VERSION:2.0
PRODID:-//https://calenda-formation.labocleo.org
X-WR-CALNAME:Calenda
X-WR-TIMEZONE:Europe/Paris
CALSCALE:GREGORIAN
X-WR-CALDESC:The calendar for arts, humanities and social sciences
METHOD:PUBLISH
BEGIN:VEVENT
DTSTART;VALUE=DATE:20171116
DTEND;VALUE=DATE:20171117
UID:421454-20171116@calenda.revues.org
SUMMARY:Freedom of Research Today
URL:https://calenda-formation.labocleo.org/421454
DESCRIPTION:In light of recent attacks against the freedom of research\, we seek to reassess and reflect on the right to this freedom today\, in a global context. Taking into account the punctual\, tendential or structural nature of the attacks against this right\, … @plus_info https://calenda-formation.labocleo.org/421454
LOCATION:Paris
END:VEVENT
BEGIN:VEVENT
DTSTART;VALUE=DATE:20171117
DTEND;VALUE=DATE:20171118
UID:421454-20171117@calenda.revues.org
SUMMARY:Freedom of Research Today
URL:https://calenda-formation.labocleo.org/421454
DESCRIPTION:In light of recent attacks against the freedom of research\, we seek to reassess and reflect on the right to this freedom today\, in a global context. Taking into account the punctual\, tendential or structural nature of the attacks against this right\, … @plus_info https://calenda-formation.labocleo.org/421454
LOCATION:Paris
END:VEVENT
BEGIN:VEVENT
DTSTART;VALUE=DATE:20171118
DTEND;VALUE=DATE:20171119
UID:421454-20171118@calenda.revues.org
SUMMARY:Freedom of Research Today
URL:https://calenda-formation.labocleo.org/421454
DESCRIPTION:In light of recent attacks against the freedom of research\, we seek to reassess and reflect on the right to this freedom today\, in a global context. Taking into account the punctual\, tendential or structural nature of the attacks against this right\, … @plus_info https://calenda-formation.labocleo.org/421454
LOCATION:Paris
END:VEVENT
END:VCALENDAR
