BEGIN:VCALENDAR
VERSION:2.0
PRODID:-//https://calenda-formation.labocleo.org
X-WR-CALNAME:Calenda
X-WR-TIMEZONE:Europe/Paris
CALSCALE:GREGORIAN
X-WR-CALDESC:The calendar for arts, humanities and social sciences
METHOD:PUBLISH
BEGIN:VEVENT
DTSTART;VALUE=DATE:20180115
DTEND;VALUE=DATE:20180116
UID:421491-20180115@calenda.revues.org
SUMMARY:Marx\, Semiotics and Political Praxis
URL:https://calenda-formation.labocleo.org/421491
DESCRIPTION:This special issue of Open Cultural Studies will return to the work of Karl Marx to reflect on and engage with his coherent articulation of words and their use\, of words and actions\, and of the intellectual and the political. The coherence of his dis… @plus_info https://calenda-formation.labocleo.org/421491
LOCATION:Berlin
END:VEVENT
END:VCALENDAR
