BEGIN:VCALENDAR
VERSION:2.0
PRODID:-//https://calenda-formation.labocleo.org
X-WR-CALNAME:Calenda
X-WR-TIMEZONE:Europe/Paris
CALSCALE:GREGORIAN
X-WR-CALDESC:The calendar for arts, humanities and social sciences
METHOD:PUBLISH
BEGIN:VEVENT
DTSTART;VALUE=DATE:20171123
DTEND;VALUE=DATE:20171124
UID:421505-20171123@calenda.revues.org
SUMMARY:Photography in theatre
URL:https://calenda-formation.labocleo.org/421505
DESCRIPTION:L’objet du colloque est d’interroger la manière dont\, depuis la fin du XIXe siècle\, le rapport au fait photographique (ses images\, ses objets\, ses techniques\, ses procédés\, ses praticiens et ses usagers) est mis en jeu dans les pratiques théâtrales e… @plus_info https://calenda-formation.labocleo.org/421505
LOCATION:Paris
END:VEVENT
BEGIN:VEVENT
DTSTART;VALUE=DATE:20171124
DTEND;VALUE=DATE:20171125
UID:421505-20171124@calenda.revues.org
SUMMARY:Photography in theatre
URL:https://calenda-formation.labocleo.org/421505
DESCRIPTION:L’objet du colloque est d’interroger la manière dont\, depuis la fin du XIXe siècle\, le rapport au fait photographique (ses images\, ses objets\, ses techniques\, ses procédés\, ses praticiens et ses usagers) est mis en jeu dans les pratiques théâtrales e… @plus_info https://calenda-formation.labocleo.org/421505
LOCATION:Paris
END:VEVENT
BEGIN:VEVENT
DTSTART;VALUE=DATE:20171125
DTEND;VALUE=DATE:20171126
UID:421505-20171125@calenda.revues.org
SUMMARY:Photography in theatre
URL:https://calenda-formation.labocleo.org/421505
DESCRIPTION:L’objet du colloque est d’interroger la manière dont\, depuis la fin du XIXe siècle\, le rapport au fait photographique (ses images\, ses objets\, ses techniques\, ses procédés\, ses praticiens et ses usagers) est mis en jeu dans les pratiques théâtrales e… @plus_info https://calenda-formation.labocleo.org/421505
LOCATION:Paris
END:VEVENT
END:VCALENDAR
