BEGIN:VCALENDAR
VERSION:2.0
PRODID:-//https://calenda-formation.labocleo.org
X-WR-CALNAME:Calenda
X-WR-TIMEZONE:Europe/Paris
CALSCALE:GREGORIAN
X-WR-CALDESC:Le calendrier des lettres et sciences humaines et sociales
METHOD:PUBLISH
BEGIN:VEVENT
DTSTART;VALUE=DATE:20171124
DTEND;VALUE=DATE:20171125
UID:421823-20171124@calenda.revues.org
SUMMARY:Transtion énergétique et transition urbaine en Chine
URL:https://calenda-formation.labocleo.org/421823
DESCRIPTION:En Chine\, les dégradations écologiques majeures dues à la stratégie de développement nationale imposent aujourd’hui une contrainte forte au modèle de croissance. C’est avant tout la question de l’énergie qui focalise notre attention lors de cette jou… Más informaciones https://calenda-formation.labocleo.org/421823
LOCATION:Saint-Martin-d'Hères
END:VEVENT
END:VCALENDAR
