BEGIN:VCALENDAR
VERSION:2.0
PRODID:-//https://calenda-formation.labocleo.org
X-WR-CALNAME:Calenda
X-WR-TIMEZONE:Europe/Paris
CALSCALE:GREGORIAN
X-WR-CALDESC:The calendar for arts, humanities and social sciences
METHOD:PUBLISH
BEGIN:VEVENT
DTSTART;VALUE=DATE:20180310
DTEND;VALUE=DATE:20180311
UID:421858-20180310@calenda.revues.org
SUMMARY:Transhumanisms and their narratives in question(s)
URL:https://calenda-formation.labocleo.org/421858
DESCRIPTION:Depuis maintenant quelques années\, le transhumanisme fait figure de mouvement de pensée dont on ne peut plus nier l’influence\, tant dans l’espace médiatique que dans les mondes académiques\, politiques et économiques\, des deux côtés de l’Atlantique. … @plus_info https://calenda-formation.labocleo.org/421858
LOCATION:Lille
END:VEVENT
END:VCALENDAR
