BEGIN:VCALENDAR
VERSION:2.0
PRODID:-//https://calenda-formation.labocleo.org
X-WR-CALNAME:Calenda
X-WR-TIMEZONE:Europe/Paris
CALSCALE:GREGORIAN
X-WR-CALDESC:Le calendrier des lettres et sciences humaines et sociales
METHOD:PUBLISH
BEGIN:VEVENT
DTSTART;VALUE=DATE:20171116
DTEND;VALUE=DATE:20171117
UID:421877-20171116@calenda.revues.org
SUMMARY:Babel transatlantique
URL:https://calenda-formation.labocleo.org/421877
DESCRIPTION:Cette journée souhaite prolonger les réflexions lancées lors d’une précédente rencontre\, autour de la place des langues extra-européennes\, en particulier américaines ou africaines\, dans l’élaboration d’un savoir linguistique\, aux formes diverses\, ent… Más informaciones https://calenda-formation.labocleo.org/421877
LOCATION:París
END:VEVENT
END:VCALENDAR
