BEGIN:VCALENDAR
VERSION:2.0
PRODID:-//https://calenda-formation.labocleo.org
X-WR-CALNAME:Calenda
X-WR-TIMEZONE:Europe/Paris
CALSCALE:GREGORIAN
X-WR-CALDESC:The calendar for arts, humanities and social sciences
METHOD:PUBLISH
BEGIN:VEVENT
DTSTART;VALUE=DATE:20180131
DTEND;VALUE=DATE:20180201
UID:422552-20180131@calenda.revues.org
SUMMARY:Decolonization and postcolonial issues of childhood and youth (1945-1980)
URL:https://calenda-formation.labocleo.org/422552
DESCRIPTION:While young people played a large role in building colonial empires\, they were also an essential concern in decolonization. Indeed\, the emancipation process of colonized peoples in the second half of the twentieth century raised with great force the … @plus_info https://calenda-formation.labocleo.org/422552
LOCATION:Angers
END:VEVENT
END:VCALENDAR
