BEGIN:VCALENDAR
VERSION:2.0
PRODID:-//https://calenda-formation.labocleo.org
X-WR-CALNAME:Calenda
X-WR-TIMEZONE:Europe/Paris
CALSCALE:GREGORIAN
X-WR-CALDESC:The calendar for arts, humanities and social sciences
METHOD:PUBLISH
BEGIN:VEVENT
DTSTART;VALUE=DATE:20171117
DTEND;VALUE=DATE:20171118
UID:422666-20171117@calenda.revues.org
SUMMARY:Mixed Constitutions / Mixed Governments (2017-2018)
URL:https://calenda-formation.labocleo.org/422666
DESCRIPTION:Ce séminaire offre un espace de discussion pour la présentation de réflexions en cours\, non seulement sur la constitution mixte\, idée qui parcourt l'histoire politique occidentale depuis l'Antiquité\, gouvernement idéal associant monarchie\, aristocrat… @plus_info https://calenda-formation.labocleo.org/422666
LOCATION:Saint-Étienne
END:VEVENT
BEGIN:VEVENT
DTSTART;VALUE=DATE:20171201
DTEND;VALUE=DATE:20171202
UID:422666-20171201@calenda.revues.org
SUMMARY:Mixed Constitutions / Mixed Governments (2017-2018)
URL:https://calenda-formation.labocleo.org/422666
DESCRIPTION:Ce séminaire offre un espace de discussion pour la présentation de réflexions en cours\, non seulement sur la constitution mixte\, idée qui parcourt l'histoire politique occidentale depuis l'Antiquité\, gouvernement idéal associant monarchie\, aristocrat… @plus_info https://calenda-formation.labocleo.org/422666
LOCATION:Saint-Étienne
END:VEVENT
BEGIN:VEVENT
DTSTART;VALUE=DATE:20180216
DTEND;VALUE=DATE:20180217
UID:422666-20180216@calenda.revues.org
SUMMARY:Mixed Constitutions / Mixed Governments (2017-2018)
URL:https://calenda-formation.labocleo.org/422666
DESCRIPTION:Ce séminaire offre un espace de discussion pour la présentation de réflexions en cours\, non seulement sur la constitution mixte\, idée qui parcourt l'histoire politique occidentale depuis l'Antiquité\, gouvernement idéal associant monarchie\, aristocrat… @plus_info https://calenda-formation.labocleo.org/422666
LOCATION:Saint-Étienne
END:VEVENT
BEGIN:VEVENT
DTSTART;VALUE=DATE:20180323
DTEND;VALUE=DATE:20180324
UID:422666-20180323@calenda.revues.org
SUMMARY:Mixed Constitutions / Mixed Governments (2017-2018)
URL:https://calenda-formation.labocleo.org/422666
DESCRIPTION:Ce séminaire offre un espace de discussion pour la présentation de réflexions en cours\, non seulement sur la constitution mixte\, idée qui parcourt l'histoire politique occidentale depuis l'Antiquité\, gouvernement idéal associant monarchie\, aristocrat… @plus_info https://calenda-formation.labocleo.org/422666
LOCATION:Saint-Étienne
END:VEVENT
BEGIN:VEVENT
DTSTART;VALUE=DATE:20180705
DTEND;VALUE=DATE:20180706
UID:422666-20180705@calenda.revues.org
SUMMARY:Mixed Constitutions / Mixed Governments (2017-2018)
URL:https://calenda-formation.labocleo.org/422666
DESCRIPTION:Ce séminaire offre un espace de discussion pour la présentation de réflexions en cours\, non seulement sur la constitution mixte\, idée qui parcourt l'histoire politique occidentale depuis l'Antiquité\, gouvernement idéal associant monarchie\, aristocrat… @plus_info https://calenda-formation.labocleo.org/422666
LOCATION:Saint-Étienne
END:VEVENT
END:VCALENDAR
