BEGIN:VCALENDAR
VERSION:2.0
PRODID:-//https://calenda-formation.labocleo.org
X-WR-CALNAME:Calenda
X-WR-TIMEZONE:Europe/Paris
CALSCALE:GREGORIAN
X-WR-CALDESC:Le calendrier des lettres et sciences humaines et sociales
METHOD:PUBLISH
BEGIN:VEVENT
DTSTART;VALUE=DATE:20171210
DTEND;VALUE=DATE:20171211
UID:422803-20171210@calenda.revues.org
SUMMARY:Citoyennetés en mouvement dans les Afriques méditerranéenne et subsaharienne
URL:https://calenda-formation.labocleo.org/422803
DESCRIPTION:Ce panel se propose d’analyser la contribution des migrations internationales dans la reconfiguration des dynamiques de citoyenneté dans les Afriques méditerranéenne et subsaharienne notamment en : interrogeant la transformation des initiatives citoy… Weitere Informationen https://calenda-formation.labocleo.org/422803
LOCATION:Roskilde
END:VEVENT
END:VCALENDAR
