BEGIN:VCALENDAR
VERSION:2.0
PRODID:-//https://calenda-formation.labocleo.org
X-WR-CALNAME:Calenda
X-WR-TIMEZONE:Europe/Paris
CALSCALE:GREGORIAN
X-WR-CALDESC:The calendar for arts, humanities and social sciences
METHOD:PUBLISH
BEGIN:VEVENT
DTSTART;VALUE=DATE:20171231
DTEND;VALUE=DATE:20180101
UID:422981-20171231@calenda.revues.org
SUMMARY:France Hydrotechnical Society (SHF) prize - Pierre Massé 2018
URL:https://calenda-formation.labocleo.org/422981
DESCRIPTION:La Société hydrotechnique de France (SHF) décerne chaque année le prix Pierre Massé\, prix « Sciences Humaines et Sociales ». Ce prix récompense des thèses de doctorat de langue française ou délivrées par une université francophone des travaux inédits… @plus_info https://calenda-formation.labocleo.org/422981
LOCATION:Paris
END:VEVENT
END:VCALENDAR
