BEGIN:VCALENDAR
VERSION:2.0
PRODID:-//https://calenda-formation.labocleo.org
X-WR-CALNAME:Calenda
X-WR-TIMEZONE:Europe/Paris
CALSCALE:GREGORIAN
X-WR-CALDESC:The calendar for arts, humanities and social sciences
METHOD:PUBLISH
BEGIN:VEVENT
DTSTART;VALUE=DATE:20180401
DTEND;VALUE=DATE:20180402
UID:423236-20180401@calenda.revues.org
SUMMARY:Women’s spring: feminism\, nationalism and civil disobedience
URL:https://calenda-formation.labocleo.org/423236
DESCRIPTION:The aim of this conference is to explore the ways in which female activists and artists responded the resurgence of the far-right nationalism and the twin evil of religious fundamentalism. We want to take a closer look at grassroots emancipatory move… @plus_info https://calenda-formation.labocleo.org/423236
LOCATION:Preston
END:VEVENT
END:VCALENDAR
