BEGIN:VCALENDAR
VERSION:2.0
PRODID:-//https://calenda-formation.labocleo.org
X-WR-CALNAME:Calenda
X-WR-TIMEZONE:Europe/Paris
CALSCALE:GREGORIAN
X-WR-CALDESC:The calendar for arts, humanities and social sciences
METHOD:PUBLISH
BEGIN:VEVENT
DTSTART;VALUE=DATE:20180115
DTEND;VALUE=DATE:20180116
UID:423242-20180115@calenda.revues.org
SUMMARY:The markets of misery (18th-21th century)
URL:https://calenda-formation.labocleo.org/423242
DESCRIPTION:The purpose of this symposium is twofold. It will report back on the speeches that have been made on the misery and the representations made of it\, from the eighteenth century to the present day. It will also give us the opportunity to question the i… @plus_info https://calenda-formation.labocleo.org/423242
LOCATION:Lyon
END:VEVENT
END:VCALENDAR
