BEGIN:VCALENDAR
VERSION:2.0
PRODID:-//https://calenda-formation.labocleo.org
X-WR-CALNAME:Calenda
X-WR-TIMEZONE:Europe/Paris
CALSCALE:GREGORIAN
X-WR-CALDESC:The calendar for arts, humanities and social sciences
METHOD:PUBLISH
BEGIN:VEVENT
DTSTART;VALUE=DATE:20171215
DTEND;VALUE=DATE:20171216
UID:423678-20171215@calenda.revues.org
SUMMARY:Postdoctoral Fellowship : Ukraine — France
URL:https://calenda-formation.labocleo.org/423678
DESCRIPTION:The Fondation Maison des sciences de l’homme (FMSH)\, the Centre d’Etudes Franco-Russe (CEFR) of Moscow and the French Embassy in Ukraine (AFU) offer short-term fellowships of three months in France for postdoc researchers from Ukraine who have presen… @plus_info https://calenda-formation.labocleo.org/423678
LOCATION:Paris
END:VEVENT
END:VCALENDAR
