BEGIN:VCALENDAR
VERSION:2.0
PRODID:-//https://calenda-formation.labocleo.org
X-WR-CALNAME:Calenda
X-WR-TIMEZONE:Europe/Paris
CALSCALE:GREGORIAN
X-WR-CALDESC:The calendar for arts, humanities and social sciences
METHOD:PUBLISH
BEGIN:VEVENT
DTSTART;VALUE=DATE:20171129
DTEND;VALUE=DATE:20171130
UID:423846-20171129@calenda.revues.org
SUMMARY:Research day at the Louvre museum
URL:https://calenda-formation.labocleo.org/423846
DESCRIPTION:Voulu comme un rendez-vous annuel et ouvert à tous\, cette journée en accès libre est l’occasion de présenter les spécificités et la diversité de la recherche menée au Louvre. La journée sera organisée autour de deux problématiquesqui permettront de p… @plus_info https://calenda-formation.labocleo.org/423846
LOCATION:Paris
END:VEVENT
END:VCALENDAR
